BEGIN:VCALENDAR
VERSION:2.0
PRODID:-//Grounded Strategies - ECPv6.14.0//NONSGML v1.0//EN
CALSCALE:GREGORIAN
METHOD:PUBLISH
X-WR-CALNAME:Grounded Strategies
X-ORIGINAL-URL:https://groundedpgh.org
X-WR-CALDESC:Events for Grounded Strategies
REFRESH-INTERVAL;VALUE=DURATION:PT1H
X-Robots-Tag:noindex
X-PUBLISHED-TTL:PT1H
BEGIN:VTIMEZONE
TZID:America/Halifax
BEGIN:DAYLIGHT
TZOFFSETFROM:-0400
TZOFFSETTO:-0300
TZNAME:ADT
DTSTART:20150308T060000
END:DAYLIGHT
BEGIN:STANDARD
TZOFFSETFROM:-0300
TZOFFSETTO:-0400
TZNAME:AST
DTSTART:20151101T050000
END:STANDARD
END:VTIMEZONE
BEGIN:VEVENT
DTSTART;TZID=America/Halifax:20150425T090000
DTEND;TZID=America/Halifax:20150425T160000
DTSTAMP:20260421T063831
CREATED:20150326T184739Z
LAST-MODIFIED:20150326T184739Z
UID:6127-1429952400-1429977600@groundedpgh.org
SUMMARY:Earth Day on the Aves
DESCRIPTION:
URL:https://groundedpgh.org/event/earth-day-on-the-aves/
LOCATION:Amity Street Frick Park in Homestead\, at the intersection of Amity Street and  10th Ave\, Homestead\, PA\, 15120\, United States
CATEGORIES:For Fun,Volunteer
ATTACH;FMTTYPE=:
END:VEVENT
END:VCALENDAR