BEGIN:VCALENDAR
VERSION:2.0
PRODID:-//Grounded Strategies - ECPv6.14.0//NONSGML v1.0//EN
CALSCALE:GREGORIAN
METHOD:PUBLISH
X-WR-CALNAME:Grounded Strategies
X-ORIGINAL-URL:https://groundedpgh.org
X-WR-CALDESC:Events for Grounded Strategies
REFRESH-INTERVAL;VALUE=DURATION:PT1H
X-Robots-Tag:noindex
X-PUBLISHED-TTL:PT1H
BEGIN:VTIMEZONE
TZID:America/New_York
BEGIN:DAYLIGHT
TZOFFSETFROM:-0500
TZOFFSETTO:-0400
TZNAME:EDT
DTSTART:20150308T070000
END:DAYLIGHT
BEGIN:STANDARD
TZOFFSETFROM:-0400
TZOFFSETTO:-0500
TZNAME:EST
DTSTART:20151101T060000
END:STANDARD
BEGIN:DAYLIGHT
TZOFFSETFROM:-0500
TZOFFSETTO:-0400
TZNAME:EDT
DTSTART:20160313T070000
END:DAYLIGHT
BEGIN:STANDARD
TZOFFSETFROM:-0400
TZOFFSETTO:-0500
TZNAME:EST
DTSTART:20161106T060000
END:STANDARD
END:VTIMEZONE
BEGIN:VTIMEZONE
TZID:America/Halifax
BEGIN:DAYLIGHT
TZOFFSETFROM:-0400
TZOFFSETTO:-0300
TZNAME:ADT
DTSTART:20150308T060000
END:DAYLIGHT
BEGIN:STANDARD
TZOFFSETFROM:-0300
TZOFFSETTO:-0400
TZNAME:AST
DTSTART:20151101T050000
END:STANDARD
END:VTIMEZONE
BEGIN:VEVENT
DTSTART;TZID=America/New_York:20160218T173000
DTEND;TZID=America/New_York:20160218T193000
DTSTAMP:20260424T081942
CREATED:20160113T175138Z
LAST-MODIFIED:20160113T175138Z
UID:11267-1455816600-1455823800@groundedpgh.org
SUMMARY:Tedx Pittsburgh Meetup: GTECH Takeover
DESCRIPTION:This event will be a place for sparking big ideas and to keep the community conversation going with TedxPittsburgh. We will enjoy recorded TED talks together curated by 2015 TedxPittsburgh Speaker\, Andrew Butcher of GTECH (check out his talk: Fueling an Upward Spiral of Community Health). Followed with a group discussion to explore new connections and ideas on sustainability and community development for our region. \n\nAudience: TedxPittsburgh Networks\, GTECH’s Social Capital Council and Networks\, Environmentally and Community Minded Individuals\, and any curious minds interested in attending.  We ask that you please RSVP by registering below. \n\nAbout:\nC-Leveled\nA special amalgam of incubator\, accelerator\, technology and business advisor plus a full-service\, in-house marketing department\, we are a band of successful entrepreneurs\, creatives and techies who have collectively founded\, operated and profitably sold more than 25 businesses. Their aim is to help companies reach the highest level of achievement in the shortest amount of time. From our elevated point of view\, they provide that 360° degree perspective that is so vital in business today. And then act on it. \n\nGTECH\nGrowth Through Energy and Community Health (GTECH) works with people to transition land use liabilities into community assets and improve the economic\, social\, and environmental health of our communities. In 2015 GTECH CEO Andrew Butcher was a TedxPittsburgh Speaker on Fueling an Upward Spiral of Community Health).\nTedxPittsburgh\nPittsburgh’s platform for showcasing the ideas\, individuals and innovations that are redefining the Steel City. TEDx Pittsburgh is an independently organized\, community based version of the larger TED-experience.  Planned and coordinated by an all volunteer team\, TEDx showcases transformative and thought-provoking ideas on the local level. Their annual TEDx Pittsburgh Conference has showcased multiple\, local initiatives aimed at sharing transformative ideas.
URL:https://groundedpgh.org/event/tedx-pittsburgh/
CATEGORIES:Community Event,For Fun,Panel Discussion,Social Capital Council
END:VEVENT
BEGIN:VEVENT
DTSTART;TZID=America/New_York:20160211T173000
DTEND;TZID=America/New_York:20160211T190000
DTSTAMP:20260424T081942
CREATED:20160203T172430Z
LAST-MODIFIED:20160203T172430Z
UID:11562-1455211800-1455217200@groundedpgh.org
SUMMARY:Inspirational Stories about Creating a Sustainable\, Vibrant\, Healthy and Just Region
DESCRIPTION:Storytelling is our way of expressing the soul of our community to one another. Stories expose our beliefs\, emotions and vulnerabilities that can connect with people in ways that facts and statistics can’t. Stories foster empathy\, remind us of what it means to be human and challenge us to be the change we seek. \nJoin the Green Building Alliance and p4 Pittsburgh to hear stories from citizens who are working to create sustainable\, vibrant\, healthy and just places for us all to live\, work\, learn and play. This Moth-style and TED-like event will dare us to dream big about what is possible for our communities\, projects and places. Speakers include: \nLeah Lizarondo | Cynthia “Muffy” Mendoza | Terri Baltimore | Vivian Loftness | Tess Wilson | Mark Dixon | Rob Pfaffman | Brian Wolovich | Stephen Cooper | Christian Hughes \nTo register\, click here.
URL:https://groundedpgh.org/event/inspirational-stories-about-creating-a-sustainable-vibrant-healthy-and-just-region/
LOCATION:Hill House Kaufmann Center\, 1835 Centre Avenue\, Pittsburgh\, PA\, 15219\, United States
CATEGORIES:Community Event,Inspired Speaker Series
END:VEVENT
BEGIN:VEVENT
DTSTART;TZID=America/New_York:20151118T170000
DTEND;TZID=America/New_York:20151118T220000
DTSTAMP:20260424T081942
CREATED:20151029T132316Z
LAST-MODIFIED:20151029T132316Z
UID:9721-1447866000-1447884000@groundedpgh.org
SUMMARY:Benefit Night at Franktuary (Lawrenceville)
DESCRIPTION:Grab a cocktail & a hot dog with us on Wednesday\, November 18th \nOn November 18th Franktuary (Lawrenceville Location) will donate 10% of sales during dinner service from 5 pm – 10 pm to GTECH Strategies.  The success of this fundraiser is based on how many SCC members\, partners and friends of GTECH join us for dinner at Franktuary.  At the benefit night we will be featuring GTECH’s key projects for 2016.  This will be a fun event to connect with SCC Members\, GTECH Staff and Board\, as well as ReClaim Ambassadors and Ambassador Alumni.  We hope you can join us and bring a friend or two…or ten.
URL:https://groundedpgh.org/event/benefit-night-at-franktuary-lawrenceville/
LOCATION:Franktuary\, 3810 Butler St\, Pittsburgh\, PA\, 15201\, United States
CATEGORIES:Community Event,For Fun,Social Capital Council
ATTACH;FMTTYPE=:
END:VEVENT
BEGIN:VEVENT
DTSTART;TZID=America/New_York:20151107T080000
DTEND;TZID=America/New_York:20151107T153000
DTSTAMP:20260424T081942
CREATED:20151005T155817Z
LAST-MODIFIED:20151005T155817Z
UID:9237-1446883200-1446910200@groundedpgh.org
SUMMARY:Pittsburgh Blight Bootcamp
DESCRIPTION:The Pittsburgh Blight Working Group made up of the City of Pittsburgh\, Neighborhood Allies\, GTECH Strategies\, PCRG and Design Center is proud to present Pittsburgh Blight Bootcamp\, a one day event to learn about resources and best practices to increase the impact of community led blight elimination efforts. \nThe event will include a panel of blight remediation practitioners ranging from local community advocates\, government officials\, to nonprofit professionals\, a keynote address from a regional expert and nine sessions on an array of subjects relating to blight elimination. \nSession topics will cover a variety of themes that may include from Data Driven Decision Making\, Community Arts to Fight Blight\, Green Space Solutions to Securing Vacant Properties. Sessions will be accessible to a wide range of skill sets from a resident hoping to learn more about blight remediation to organizations looking to expand their skill sets. \nThe first 100 registrants will receive a free Pittsburgh Blight Bootcamp t-shirt. \nRegister for the Pittsburgh Blight Bootcamp here. \nFor additional questions and reduced ticket pricing due to financial limitations please contact Katie McAuley
URL:https://groundedpgh.org/event/pittsburgh-blight-bootcamp/
LOCATION:Wyndham Pittsburgh University Center\, 100 Lytton Avenue\, Pittsburgh\, 15213\, United States
CATEGORIES:Community Event,Conference,Panel Discussion
ATTACH;FMTTYPE=:
END:VEVENT
BEGIN:VEVENT
DTSTART;TZID=America/New_York:20151101T140000
DTEND;TZID=America/New_York:20151101T160000
DTSTAMP:20260424T081942
CREATED:20151020T142637Z
LAST-MODIFIED:20151020T142637Z
UID:9501-1446386400-1446393600@groundedpgh.org
SUMMARY:Pop-Up Picnic at St. John's Green
DESCRIPTION:The Urban Redevelopment owns a large piece of land called St. John’s Green in Brighton Heights which used to be the home of the St. John’s hospital. It’s time for the community to help decide what the future of this large vacant lot will be. If you’d like to learn more about the lot and speak with neighbors and partnering organizations about the St. John’s Green\, please join us on November 1st.
URL:https://groundedpgh.org/event/pop-up-picnic-at-st-johns-green/
LOCATION:Open\, grassy area at St. John’s\, 3336 Fleming Avenue\, Pittsburgh
CATEGORIES:Community Event
END:VEVENT
BEGIN:VEVENT
DTSTART;TZID=America/New_York:20151001T180000
DTEND;TZID=America/New_York:20151001T200000
DTSTAMP:20260424T081942
CREATED:20150923T133508Z
LAST-MODIFIED:20150923T133508Z
UID:9082-1443722400-1443729600@groundedpgh.org
SUMMARY:PSU Pittsburgh Northside Charette
DESCRIPTION:As an extension of the One Northside AIM project\, Penn State landscape architecture students are now developing designs for areas in California-Kirkbride\, Manchester and East Deutschtown as well as ways to connect the 18 neighborhoods of the Northside. Community input is a key part of this process\, so we hope that you can join them at this event! Please meet at the New Hazlett Theater on 10/1/2015 from 6 pm – 8 pm. Light refreshments will be served.
URL:https://groundedpgh.org/event/psu-pittsburgh-northside-charette/
LOCATION:New Hazlett Theater\, 6 Allegheny Square\, Pittsburgh\, 15212
CATEGORIES:Community Event
ORGANIZER;CN="Penn State Center":MAILTO:cmr269@psu.edu
END:VEVENT
BEGIN:VEVENT
DTSTART;TZID=America/Halifax:20150924T190000
DTEND;TZID=America/Halifax:20150924T210000
DTSTAMP:20260424T081942
CREATED:20150827T135857Z
LAST-MODIFIED:20150827T135857Z
UID:8769-1443121200-1443128400@groundedpgh.org
SUMMARY:ReClaim Northside Graduation
DESCRIPTION:Join us to celebrate the good work of the 13 ReClaim Northside Ambassadors who have worked tirelessly to turn vacant lots throughout the Northside into beautiful community spaces. This event will include treats from Chateau Cafe and Cakery\, music from Muddy Kreek Blues Band\, and a gallery of photos of the vacant lot projects. Whether you want to celebrate the good work of your neighbors\, meet fellow Northsiders\, or enjoy some local entertainment\, we’d love to have you! \n\n\n\nRSVP on Eventbrite by following this link.
URL:https://groundedpgh.org/event/reclaim-northside-graduation/
LOCATION:Neu Kirche Contemporary Art Center\, 1000 Madison Avenue\, Pittsburgh\, PA\, 15212\, United States
CATEGORIES:Community Event,For Fun
ATTACH;FMTTYPE=:
END:VEVENT
BEGIN:VEVENT
DTSTART;TZID=America/Halifax:20150828T050000
DTEND;TZID=America/Halifax:20150828T200000
DTSTAMP:20260424T081942
CREATED:20150818T203707Z
LAST-MODIFIED:20150818T203707Z
UID:8688-1440738000-1440792000@groundedpgh.org
SUMMARY:412Build Community Celebration
DESCRIPTION:Join us for a FREE Picnic at the Bible Center Church to celebrate the second session of 412Build at their capstone event. Join us as the students of 412Build unveil the newly installed permanent lawn games they’ve built this summer. The event will feature: \n-Free barbecue from The Dream BBQ and dessert from Dana’s Bakery\n-Music by DJ Dolla Bill\n-Games\, entertainment\, and fun for all ages! \nPlease RSVP
URL:https://groundedpgh.org/event/412build-community-celebration/
LOCATION:Homewood Bible Center\, 7238 Fleury Way\, Pittsburgh\, PA\, United States
CATEGORIES:Community Event
ATTACH;FMTTYPE=:
ORGANIZER;CN="Lydia Kramer":MAILTO:l.kramer@gtechstrategies.org
END:VEVENT
BEGIN:VEVENT
DTSTART;TZID=America/Halifax:20150806T180000
DTEND;TZID=America/Halifax:20150806T200000
DTSTAMP:20260424T081942
CREATED:20150716T140054Z
LAST-MODIFIED:20150716T140054Z
UID:8176-1438884000-1438891200@groundedpgh.org
SUMMARY:People\, Places\, Spaces: A Celebration of Northside Assets
DESCRIPTION:This summer\, students from the region have been working diligently to map the many assets the Northside has to offer. They’ve met with community groups\, residents\, businesses and more to create a comprehensive view of destinations in the Northside. Now\, they’d like to share their map and open up a conversation about the people\, places\, and spaces that define the Northside. \nSo\, join us for food\, an unveiling of this new Northside map\, and conversation. We hope to see you there!
URL:https://groundedpgh.org/event/people-places-spaces-a-celebration-of-northside-assets/
LOCATION:Alphabet City Tent  at City of Asylum\, 318 Sampsonia Way\, Pittsburgh\, PA\, 15212\, United States
CATEGORIES:Community Event
ATTACH;FMTTYPE=:
END:VEVENT
END:VCALENDAR